BEGIN:VCALENDAR
VERSION:2.0
PRODID:-//Southern Women Empowerment Forum - ECPv6.8.3//NONSGML v1.0//EN
CALSCALE:GREGORIAN
METHOD:PUBLISH
X-WR-CALNAME:Southern Women Empowerment Forum
X-ORIGINAL-URL:https://sweforum.org
X-WR-CALDESC:Events for Southern Women Empowerment Forum
REFRESH-INTERVAL;VALUE=DURATION:PT1H
X-Robots-Tag:noindex
X-PUBLISHED-TTL:PT1H
BEGIN:VTIMEZONE
TZID:UTC
BEGIN:STANDARD
TZOFFSETFROM:+0000
TZOFFSETTO:+0000
TZNAME:UTC
DTSTART:20240101T000000
END:STANDARD
END:VTIMEZONE
BEGIN:VEVENT
DTSTART;TZID=UTC:20241203T000000
DTEND;TZID=UTC:20241206T201200
DTSTAMP:20260423T094117
CREATED:20241206T201218Z
LAST-MODIFIED:20241209T091803Z
UID:2369-1733184000-1733515920@sweforum.org
SUMMARY:SWEF Women Empowerment 2024
DESCRIPTION:SWEF TELEVISION PUBLICATIONS \nhttps://sweforum.org/wp-content/uploads/2024/12/WhatsApp-Video-2024-12-07-at-16.35.25_589b1a0b.mp4\nhttps://sweforum.org/wp-content/uploads/2024/12/WhatsApp-Video-2024-12-08-at-10.27.10_3f792514.mp4\nhttps://sweforum.org/wp-content/uploads/2024/12/WhatsApp-Video-2024-12-08-at-10.27.09_e3d5fdf7.mp4\n  \nSWEF Women Empowerment/ Medical Outreach Program 2024  \nhttps://sweforum.org/wp-content/uploads/2024/12/WhatsApp-Video-2024-12-05-at-15.48.21_cc7b7dec.mp4\nDr. Helen Adebakin (Convener ) Speaks On the Empowerment Program \n  \nhttps://sweforum.org/wp-content/uploads/2024/12/WhatsApp-Video-2024-12-05-at-15.48.22_7277623c.mp4\nThe Women Celebrating In Joy \n  \n \nhttps://sweforum.org/wp-content/uploads/2024/12/VID-20241205-WA0007.mp4\nDr. Helen Adebakin presenting the envelopes of money to the beneficiaries. \nhttps://sweforum.org/wp-content/uploads/2024/12/VID-20241205-WA0008.mp4\n  \n \n  \n Southern Women Empowerment Forum  Inaugurates Rivers State chapter with empowerment for women in Porthacourt on November 23rd 2024. \nhttps://sweforum.org/wp-content/uploads/2024/12/VID-20241205-WA0004.mp4\nhttps://sweforum.org/wp-content/uploads/2024/12/VID-20241205-WA0005.mp4\nhttps://sweforum.org/wp-content/uploads/2024/12/VID-20241205-WA0006.mp4\nhttps://sweforum.org/wp-content/uploads/2024/12/VID-20241205-WA0010.mp4\nhttps://sweforum.org/wp-content/uploads/2024/12/VID-20241205-WA0011.mp4\n  \nSWEF inaugurates OYO chapter executives\, empowers Women with cash and other items
URL:https://sweforum.org/event/swef-women-empowerment-2024/
LOCATION:City Child Foundation Schools Premises\, Nigeria
END:VEVENT
BEGIN:VEVENT
DTSTART;TZID=UTC:20240229T100000
DTEND;TZID=UTC:20240229T170000
DTSTAMP:20260423T094117
CREATED:20240228T095331Z
LAST-MODIFIED:20240228T095341Z
UID:2240-1709200800-1709226000@sweforum.org
SUMMARY:Southern Women Empowerment Forum's Conference
DESCRIPTION:Theme: Breaking Barriers: Overcoming Gender Stereotypes in Nigeria \nSouthern Women Empowerment Forum is dedicated to fostering collaboration and discussion on matters crucial to the advancement and empowerment of women in our society
URL:https://sweforum.org/event/southern-women-empowerment-forums-conference/
LOCATION:Wells Carlton Hotel\, Wells Carlton Hotel\, Asokoro\, FCT Abuja\, Nigeria
CATEGORIES:SWEF Events
ATTACH;FMTTYPE=image/jpeg:https://sweforum.org/wp-content/uploads/2020/07/event.jpg
ORGANIZER;CN="Southern Women Empowerment Forum":MAILTO:info@sweforum.org
END:VEVENT
END:VCALENDAR